BEGIN:VCALENDAR
VERSION:2.0
PRODID:-//Yoga Móstoles - ECPv6.15.20//NONSGML v1.0//EN
CALSCALE:GREGORIAN
METHOD:PUBLISH
X-WR-CALNAME:Yoga Móstoles
X-ORIGINAL-URL:https://yogamostoles.com
X-WR-CALDESC:Eventos para Yoga Móstoles
REFRESH-INTERVAL;VALUE=DURATION:PT1H
X-Robots-Tag:noindex
X-PUBLISHED-TTL:PT1H
BEGIN:VTIMEZONE
TZID:America/Eirunepe
BEGIN:STANDARD
TZOFFSETFROM:-0500
TZOFFSETTO:-0500
TZNAME:-05
DTSTART:20240101T000000
END:STANDARD
END:VTIMEZONE
BEGIN:VEVENT
DTSTART;TZID=America/Eirunepe:20250201T010000
DTEND;TZID=America/Eirunepe:20250228T100000
DTSTAMP:20260423T180738
CREATED:20250128T231150Z
LAST-MODIFIED:20250129T175941Z
UID:21042-1738371600-1740736800@yogamostoles.com
SUMMARY:Cursos Febrero
DESCRIPTION:Nuevos Cursos 2025 \n\n\n\n28 enero\, 2025por Janakien Clases\, Terapias naturales\, YogaEtiquetas Clases\, Talleres\, Terapias \n\n\n\nEmpezamos un nuevo recorrido con nuevos cursos y metas nuevas\, \n\n\n\nCreo que es el momento de subir el nivel de energía en la vida.  \n\n\n\nTodos estos cursos son creados para este cometido. \n\n\n\n*El Curso más avanzado\, aprendiendo con las técnicas avanzadas del Yoga autentico. \n\n\n\n*El Curso de Meditación: Técnicas para llegar a la Meditación \n\n\n\n*Constelaciones Familiares: Unas técnicas para armonizar todos los aspectos de mi vida. \n\n\n\n*Baño de Gong: Abandonándome a los sonidos del Gong\, me lleva armonizar y liberar las emociones y bloqueos . \n\n\n\n*Reiki: Todos los niveles de Reiki\, son de autosanación y sanando a los demás y armonizando energía. Sin olvidar que tambien puede ayudar a un cambio personal\, con sus diversas técnicas de reiki. \n\n\n\nTe recuerdo que hacemos distintas técnicas de sanción natural\, que suelen dar muy buenos resultados.  \n\n\n\nPide cita. 666 76 35 b 06 o INSCRIBETE a cualquier taller\, seguro que te puede ayudar a mejorar el día a día.  \n\n\n\nPROXIMANETE: \n\n\n\nNUEVO CURSO Mindfulness: Tres meses dos dias al mes\, con audio videos\, para practicantes clicar cada día
URL:https://yogamostoles.com/evento/cursos-febrero/
LOCATION:Madrid
CATEGORIES:Gong,Meditación,Mindfulness,Reiki,Terapia
ATTACH;FMTTYPE=image/jpeg:https://yogamostoles.com/wp-content/uploads/2025/01/CURSOS-Fwbero-.jpg
END:VEVENT
END:VCALENDAR