BEGIN:VCALENDAR
VERSION:2.0
PRODID:-//Yoga Móstoles - ECPv6.15.20//NONSGML v1.0//EN
CALSCALE:GREGORIAN
METHOD:PUBLISH
X-WR-CALNAME:Yoga Móstoles
X-ORIGINAL-URL:https://yogamostoles.com
X-WR-CALDESC:Eventos para Yoga Móstoles
REFRESH-INTERVAL;VALUE=DURATION:PT1H
X-Robots-Tag:noindex
X-PUBLISHED-TTL:PT1H
BEGIN:VTIMEZONE
TZID:America/Eirunepe
BEGIN:STANDARD
TZOFFSETFROM:-0500
TZOFFSETTO:-0500
TZNAME:-05
DTSTART:20240101T000000
END:STANDARD
END:VTIMEZONE
BEGIN:VEVENT
DTSTART;TZID=America/Eirunepe:20251025T023000
DTEND;TZID=America/Eirunepe:20251025T033000
DTSTAMP:20260423T060546
CREATED:20251022T181900Z
LAST-MODIFIED:20251023T001736Z
UID:20375-1761359400-1761363000@yogamostoles.com
SUMMARY:Baño de Gong
DESCRIPTION:El sonido del Gong te ayuda a estar en el momento presente\, sin ningún esfuerzo. Liberando sensaciones emociones\, y ayudando al cuerpo a retomar el equilibrio\, en cada sistema\, Circular\, Nervioso\, Múscular\, óseo\, respiratorio\, excretor\,\, endocrino\, reproductor. Ayuda a liberar traumas\, obsesiones etc.
URL:https://yogamostoles.com/evento/bano-de-gong/
LOCATION:Pintor Velazquez nº 15 Móstoles
CATEGORIES:Gong
ATTACH;FMTTYPE=image/png:https://yogamostoles.com/wp-content/uploads/2019/10/Bano-de-Gong--e1669722525491.png
END:VEVENT
END:VCALENDAR