BEGIN:VCALENDAR
VERSION:2.0
PRODID:-//Yoga Móstoles - ECPv6.15.20//NONSGML v1.0//EN
CALSCALE:GREGORIAN
METHOD:PUBLISH
X-ORIGINAL-URL:https://yogamostoles.com
X-WR-CALDESC:Eventos para Yoga Móstoles
REFRESH-INTERVAL;VALUE=DURATION:PT1H
X-Robots-Tag:noindex
X-PUBLISHED-TTL:PT1H
BEGIN:VTIMEZONE
TZID:America/Eirunepe
BEGIN:STANDARD
TZOFFSETFROM:-0500
TZOFFSETTO:-0500
TZNAME:-05
DTSTART:20240101T000000
END:STANDARD
END:VTIMEZONE
BEGIN:VEVENT
DTSTART;TZID=America/Eirunepe:20250423T030000
DTEND;TZID=America/Eirunepe:20250423T040000
DTSTAMP:20260423T150752
CREATED:20250423T165710Z
LAST-MODIFIED:20250423T165712Z
UID:21077-1745377200-1745380800@yogamostoles.com
SUMMARY:Baño de Gong y Yoga Nidra
DESCRIPTION:El sonido del Gong te ayuda a estar en el momento presente\, sin ningún esfuerzo. Liberando sensaciones emociones\, y ayudando al cuerpo a retomar el equilibrio\, en cada sistema\, Circular\, Nervioso\, Múscular\, óseo\, respiratorio\, excretor\,\, endocrino\, reproductor. Ayuda a liberar traumas\, obsesiones etc. \n\n\n\nEl Yoga Nidra quiere decir; Sueño Psíquico entraras en un trance profundo\, liberador\, con Resolución\, que llegare a tu subconsciente.  \n\n\n\nMuy Beneficioso para todos.
URL:https://yogamostoles.com/evento/bano-de-gong-y-yoga-nidra/
LOCATION:Madrid
CATEGORIES:Gong,Yoga
ATTACH;FMTTYPE=image/jpeg:https://yogamostoles.com/wp-content/uploads/2025/04/image.jpeg
END:VEVENT
END:VCALENDAR